BEGIN:VCALENDAR
VERSION:2.0
PRODID:-//FoodFreaks - ECPv6.15.20//NONSGML v1.0//EN
CALSCALE:GREGORIAN
METHOD:PUBLISH
X-WR-CALNAME:FoodFreaks
X-ORIGINAL-URL:https://foodfreaks.ch
X-WR-CALDESC:Veranstaltungen für FoodFreaks
REFRESH-INTERVAL;VALUE=DURATION:PT1H
X-Robots-Tag:noindex
X-PUBLISHED-TTL:PT1H
BEGIN:VTIMEZONE
TZID:Europe/Berlin
BEGIN:DAYLIGHT
TZOFFSETFROM:+0100
TZOFFSETTO:+0200
TZNAME:CEST
DTSTART:20250330T010000
END:DAYLIGHT
BEGIN:STANDARD
TZOFFSETFROM:+0200
TZOFFSETTO:+0100
TZNAME:CET
DTSTART:20251026T010000
END:STANDARD
BEGIN:DAYLIGHT
TZOFFSETFROM:+0100
TZOFFSETTO:+0200
TZNAME:CEST
DTSTART:20260329T010000
END:DAYLIGHT
BEGIN:STANDARD
TZOFFSETFROM:+0200
TZOFFSETTO:+0100
TZNAME:CET
DTSTART:20261025T010000
END:STANDARD
BEGIN:DAYLIGHT
TZOFFSETFROM:+0100
TZOFFSETTO:+0200
TZNAME:CEST
DTSTART:20270328T010000
END:DAYLIGHT
BEGIN:STANDARD
TZOFFSETFROM:+0200
TZOFFSETTO:+0100
TZNAME:CET
DTSTART:20271031T010000
END:STANDARD
END:VTIMEZONE
BEGIN:VEVENT
DTSTART;TZID=Europe/Berlin:20260419T114500
DTEND;TZID=Europe/Berlin:20260419T200000
DTSTAMP:20260423T103407
CREATED:20260417T094017Z
LAST-MODIFIED:20260417T094018Z
UID:30045-1776599100-1776628800@foodfreaks.ch
SUMMARY:Streetfood Festival Luzern
DESCRIPTION:Das Streetfood Festival Luzern bringt internationale Küche ins Eiszentrum Luzern. Rund 45 Foodstände bieten Spezialitäten aus aller Welt\, ergänzt durch Live-Musik\, Bars und ein vielseitiges Rahmenprogramm. Der Anlass richtet sich an Foodliebhaber\, Familien und alle\, die neue Geschmäcker entdecken möchten.
URL:https://foodfreaks.ch/event/streetfood-festival-luzern-3/
LOCATION:Eiszentrum Luzern\, Luzern\, Schweiz
CATEGORIES:Event,Festival
END:VEVENT
END:VCALENDAR